BEGIN:VCALENDAR
VERSION:2.0
PRODID:-//Real y Trinitaria Archicofradia del Santo Entierro y Nuestra Señora de los Dolores en su Inmaculada Concepción - Oviedo - ECPv4.9.8//NONSGML v1.0//EN
CALSCALE:GREGORIAN
METHOD:PUBLISH
X-WR-CALNAME:Real y Trinitaria Archicofradia del Santo Entierro y Nuestra Señora de los Dolores en su Inmaculada Concepción - Oviedo
X-ORIGINAL-URL:https://dolorosaoviedo.es
X-WR-CALDESC:Eventos para Real y Trinitaria Archicofradia del Santo Entierro y Nuestra Señora de los Dolores en su Inmaculada Concepción - Oviedo
BEGIN:VTIMEZONE
TZID:Europe/Madrid
BEGIN:DAYLIGHT
TZOFFSETFROM:+0100
TZOFFSETTO:+0200
TZNAME:CEST
DTSTART:20260329T010000
END:DAYLIGHT
BEGIN:STANDARD
TZOFFSETFROM:+0200
TZOFFSETTO:+0100
TZNAME:CET
DTSTART:20261025T010000
END:STANDARD
END:VTIMEZONE
BEGIN:VEVENT
DTSTART;TZID="Europe/Madrid":20260307T180000
DTEND;TZID="Europe/Madrid":20260307T190000
DTSTAMP:20260421T090122
CREATED:20230212T174939Z
LAST-MODIFIED:20260207T184322Z
UID:4087-1772906400-1772910000@dolorosaoviedo.es
SUMMARY:VIA CRUCIS
DESCRIPTION:Vía Crucis presidido por la imagen del Cristo de la Buena Muerte\, en colaboración con la Fundación  Pontificia Ayuda a la Iglesia Necesitada\, pidiendo por los cristianos perseguidos. \n
URL:https://dolorosaoviedo.es/evento/via-crucis-cofradias/
LOCATION:Iglesia de San Isidoro el Real\, Plaza de la Constitución\, s/n\, Oviedo\, Asturias\, 33009\, España
ATTACH;FMTTYPE=image/jpeg:https://dolorosaoviedo.es/wp-content/uploads/2024/03/MG_9453.jpg
END:VEVENT
END:VCALENDAR